BEGIN:VCALENDAR
VERSION:2.0
PRODID:-//Arbeitsausschuss Innenstadt Braunschweig e. V. (AAI) - ECPv6.3.4//NONSGML v1.0//EN
CALSCALE:GREGORIAN
METHOD:PUBLISH
X-ORIGINAL-URL:https://aai-bs.de
X-WR-CALDESC:Veranstaltungen für Arbeitsausschuss Innenstadt Braunschweig e. V. (AAI)
REFRESH-INTERVAL;VALUE=DURATION:PT1H
X-Robots-Tag:noindex
X-PUBLISHED-TTL:PT1H
BEGIN:VTIMEZONE
TZID:Europe/Berlin
BEGIN:DAYLIGHT
TZOFFSETFROM:+0100
TZOFFSETTO:+0200
TZNAME:CEST
DTSTART:20240331T010000
END:DAYLIGHT
BEGIN:STANDARD
TZOFFSETFROM:+0200
TZOFFSETTO:+0100
TZNAME:CET
DTSTART:20241027T010000
END:STANDARD
END:VTIMEZONE
BEGIN:VEVENT
DTSTART;TZID=Europe/Berlin:20240911T183000
DTEND;TZID=Europe/Berlin:20240911T213000
DTSTAMP:20260423T142320
CREATED:20240819T091308Z
LAST-MODIFIED:20240911T074029Z
UID:16125-1726079400-1726090200@aai-bs.de
SUMMARY:„AAI zu Gast bei …“ der i-unit group
DESCRIPTION:Liebe Mitglieder und Freunde des Arbeitsausschuss Innenstadt Braunschweig e. V.\, \nunter dem Motto „AAI zu Gast bei …“ laden wir Sie herzlich zu unserer nächsten Veranstaltung bei der i-unit group ein. Seit über 20 Jahren unterstützt das mittelständische Unternehmen als kompetenter Berater\, Sparringspartner und Problemlöser.\nWir freuen uns daher sehr\, das Unternehmen am 11. September besuchen zu dürfen. Neben zwei interessanten Vorträgen rund um das Thema Digitalisierung erwartet Sie ein entspannter Abend mit jeder Menge Zeit für den Austausch untereinander. \nVeranstaltungsdetails:\nDatum: Mittwoch\, 11. September\nEinlass: 18:30 Uhr\nBeginn: 19:00 Uhr\nOrt: Steintorwall 3\, 38100 Braunschweig \nProgramm:\nVortrag der GID Gesellschaft für innovative Datenverarbeitungssysteme mbH\nReferent: Christian Andresen (Geschäftsführer)\nThema: „Wie wir durch gezielte CRM-Nutzung mehr Kunden in die Läden bekommen am Praxisbeispiel„Stressless-Sessel“ . \nVortrag der wissenswerft GmbH\nReferent: Rico Heinzig (myhoney.com)\nThema: „Was hat die Biene mit Digitalisierung zu tun?“ \nIm Anschluss an die Vorträge laden wir Sie herzlich ein\, den Abend bei Getränken und einem leckeren Buffet ausklingen zu lassen. Nutzen Sie die Gelegenheit\, sich mit anderen Gästen auszutauschen und zu netzwerken.\nWir freuen uns auf einen inspirierenden Abend mit Ihnen! \nHerzliche Grüße\nIhr Vorstand
URL:https://aai-bs.de/veranstaltungen/aai-zu-gast-bei-der-i-unit-group/
LOCATION:i-unit Intelligence Unit Consulting GmbH\, Steintorwall 3\, 38100 Braunschweig\, 38100\, Deutschland
CATEGORIES:AAI Veranstaltungen,Zu Gast bei ...
ATTACH;FMTTYPE=image/jpeg:https://aai-bs.de/wp-content/uploads/2024/08/A.jpg
ORGANIZER;CN="AAI Braunschweig e. V.":MAILTO:info@aai-bs.de
END:VEVENT
BEGIN:VEVENT
DTSTART;TZID=Europe/Berlin:20240926T180000
DTEND;TZID=Europe/Berlin:20240926T200000
DTSTAMP:20260423T142320
CREATED:20240917T112158Z
LAST-MODIFIED:20240918T123601Z
UID:16237-1727373600-1727380800@aai-bs.de
SUMMARY:Auftaktveranstaltung: Dein Braunschweig - Deine Stadt
DESCRIPTION:Liebe Mitglieder und Freunde des Arbeitsausschuss Innenstadt Braunschweig e. V.\, \nGemeinsam für die Braunschweiger Innenstadt – mit diesem Ziel haben wir uns im Sommer dieses Jahres zusammengetan und Ideen gesammelt\, wie wir Braunschweiger und Gäste wieder für die inhabergeführten Restaurants\, Cafés und Geschäfte begeistern können. Wir\, das sind Gastronomen und Einzelhändler der Braunschweiger Innenstadt. Stellvertretend für Euch alle arbeiten wir seither mit Unterstützung des AAI an einer Kampagne\, damit wir besser mit den Schwierigkeiten der letzten Jahre – darunter die Corona-Pandemie\, der Krieg in der Ukraine und die damit verbundene Inflation – umgehen können. Ziel ist es\, ein positives Image der Braunschweiger Innenstadt zu erzeugen. \nWir möchten die Kunden wieder mit Freude in die Innenstadt ziehen\, indem wir Erlebnisse und Emotionen schaffen. Wir glauben an unsere Stadt und wir glauben daran\, dass wir gemeinsam einen neuen Vibe\, einen neuen Spirit und ein positives Image für die Innenstadt kreieren können. \nDas schaffen wir aber nicht allein. Deshalb laden wir Euch am Donnerstag\, den 26. September 2024\, um 18 Uhr ins 381 zu unserer Auftaktveranstaltung DEIN BRAUNSCHWEIG\, DEINE STADT ein. \nAn diesem Abend erfahrt ihr alles über die Ideen zur Kampagne\, die wir zeitnah gemeinsam umsetzen können. \nWir freuen uns auf Euer Erscheinen. \nMit freundlichen Grüßen \nMirko Rüsing\nMichael Grazé\nJean-Luc Hänel\nHendrik Borgmann\nAnne-Kathrin Strauß\nRobin Langer \nBild: canva KI
URL:https://aai-bs.de/veranstaltungen/auftaktveranstaltung-dein-braunschweig-deine-stadt/
LOCATION:381\, Friedrich-Wilhelm-Straße 41\, 38100 Braunschweig\, Deutschland
CATEGORIES:AAI Veranstaltungen,Dein Braunschweig Deine Stadt
ATTACH;FMTTYPE=image/png:https://aai-bs.de/wp-content/uploads/2024/09/Dein-Braunschweig.png
ORGANIZER;CN="AAI Braunschweig e. V.":MAILTO:info@aai-bs.de
END:VEVENT
END:VCALENDAR