BEGIN:VCALENDAR
VERSION:2.0
PRODID:-//Arbeitsausschuss Innenstadt Braunschweig e. V. (AAI) - ECPv6.3.4//NONSGML v1.0//EN
CALSCALE:GREGORIAN
METHOD:PUBLISH
X-WR-CALNAME:Arbeitsausschuss Innenstadt Braunschweig e. V. (AAI)
X-ORIGINAL-URL:https://aai-bs.de
X-WR-CALDESC:Veranstaltungen für Arbeitsausschuss Innenstadt Braunschweig e. V. (AAI)
REFRESH-INTERVAL;VALUE=DURATION:PT1H
X-Robots-Tag:noindex
X-PUBLISHED-TTL:PT1H
BEGIN:VTIMEZONE
TZID:Europe/Berlin
BEGIN:DAYLIGHT
TZOFFSETFROM:+0100
TZOFFSETTO:+0200
TZNAME:CEST
DTSTART:20230326T010000
END:DAYLIGHT
BEGIN:STANDARD
TZOFFSETFROM:+0200
TZOFFSETTO:+0100
TZNAME:CET
DTSTART:20231029T010000
END:STANDARD
END:VTIMEZONE
BEGIN:VEVENT
DTSTART;TZID=Europe/Berlin:20231213T183000
DTEND;TZID=Europe/Berlin:20231213T220000
DTSTAMP:20260425T141734
CREATED:20231108T114252Z
LAST-MODIFIED:20231108T114413Z
UID:15111-1702492200-1702504800@aai-bs.de
SUMMARY:AAI Weihnachtsfeier
DESCRIPTION:Die besinnliche Jahreszeit steht vor der Tür und wir freuen uns\, Sie herzlich zu unserer diesjährigen Weihnachtsfeier einzuladen. Gemeinsam wollen wir das vergangene Jahr Revue passieren lassen und die festliche Stimmung der Vorweihnachtszeit genießen. \nDatum: 13. Dezember\nEinlass: 18:30 Uhr\nBeginn: 19:00 Uhr\nOrt: Haus der Schlaraffen\nAdresse: Hochstraße 21\, Braunschweig \nUnsere diesjährige Weihnachtsfeier findet im „Haus der Schlaraffen“ statt\, das eine einzigartige Atmosphäre für unser Fest bietet. Für die Weihnachtsfeier wird es in den Räumlichkeiten in der Hochstraße in erster Linie aromatisch: Geplant ist ein Rum-Tasting in Zusammenarbeit mit der Firma Rumprobiert\, bei dem Sie drei verschiedene Sorten Rum probieren und mit einander vergleichen können. Natürlich gibt es auch etwas zu Essen und jede Menge Zeit für Gespräche. \nLeider stehen vor Ort keine Parkplätze zur Verfügung. Wir empfehlen daher\, öffentliche Verkehrsmittel (Bushaltestelle: Hochstraße) zu nutzen\, um den Abend stressfrei zu genießen. \nWir freuen uns auf einen besinnlichen Abend in festlicher Gesellschaft und hoffen\, dass Sie an unserer Weihnachtsfeier teilnehmen können. Lassen Sie uns gemeinsam das Jahr in fröhlicher Runde ausklingen. \nMit weihnachtlichen Grüßen \nIhr AAI-Vorstand
URL:https://aai-bs.de/veranstaltungen/aai-weihnachtsfeier/
LOCATION:Haus der Schlaraffen\, Hochstraße 21\, Braunschweig\, 38102\, Deutschland
CATEGORIES:AAI Veranstaltungen,AAI-Infoabend (b2b)
ORGANIZER;CN="AAI Braunschweig e. V.":MAILTO:info@aai-bs.de
END:VEVENT
END:VCALENDAR